BEGIN:VCALENDAR
VERSION:2.0
PRODID:-//ZenZone Yoga - ECPv6.11.2//NONSGML v1.0//EN
CALSCALE:GREGORIAN
METHOD:PUBLISH
X-ORIGINAL-URL:https://www.zenzoneyoga.co.uk
X-WR-CALDESC:Events for ZenZone Yoga
REFRESH-INTERVAL;VALUE=DURATION:PT1H
X-Robots-Tag:noindex
X-PUBLISHED-TTL:PT1H
BEGIN:VTIMEZONE
TZID:Europe/London
BEGIN:DAYLIGHT
TZOFFSETFROM:+0000
TZOFFSETTO:+0100
TZNAME:BST
DTSTART:20230326T010000
END:DAYLIGHT
BEGIN:STANDARD
TZOFFSETFROM:+0100
TZOFFSETTO:+0000
TZNAME:GMT
DTSTART:20231029T010000
END:STANDARD
END:VTIMEZONE
BEGIN:VEVENT
DTSTART;TZID=Europe/London:20230625T093000
DTEND;TZID=Europe/London:20230625T170000
DTSTAMP:20260422T170535
CREATED:20230317T094200Z
LAST-MODIFIED:20230317T094200Z
UID:1342-1687685400-1687712400@www.zenzoneyoga.co.uk
SUMMARY:Summer Sunshine One Day Retreat
DESCRIPTION:Come and join us and celebrate our last one day retreat before the summer holidays.  Using the practices of Qigong\, Yin/Restorative Yoga\, and Energy Healing\, to harmonise the fire element this summer season\, helping to  re-align heart\, body and mind.    No previous experience in any of the disciplines is necessary as the day will be designed to accommodate all levels and abilities.  \n\n£92 per person. Price includes vegan lunch and teas/coffees.
URL:https://www.zenzoneyoga.co.uk/retreat/summer-sunshine-one-day-retreat/
LOCATION:The Retreat Arnewood Manor\, The Retreat Arnewood Manor\, Sway
ATTACH;FMTTYPE=image/jpeg:https://www.zenzoneyoga.co.uk/wp-content/uploads/2023/03/pexels-peter-fazekas-1234064-scaled.jpg
END:VEVENT
END:VCALENDAR