BEGIN:VCALENDAR
VERSION:2.0
PRODID:-//ZenZone Yoga - ECPv6.11.2//NONSGML v1.0//EN
CALSCALE:GREGORIAN
METHOD:PUBLISH
X-ORIGINAL-URL:https://www.zenzoneyoga.co.uk
X-WR-CALDESC:Events for ZenZone Yoga
REFRESH-INTERVAL;VALUE=DURATION:PT1H
X-Robots-Tag:noindex
X-PUBLISHED-TTL:PT1H
BEGIN:VTIMEZONE
TZID:Europe/London
BEGIN:DAYLIGHT
TZOFFSETFROM:+0000
TZOFFSETTO:+0100
TZNAME:BST
DTSTART:20230326T010000
END:DAYLIGHT
BEGIN:STANDARD
TZOFFSETFROM:+0100
TZOFFSETTO:+0000
TZNAME:GMT
DTSTART:20231029T010000
END:STANDARD
END:VTIMEZONE
BEGIN:VEVENT
DTSTART;VALUE=DATE:20230721
DTEND;VALUE=DATE:20230725
DTSTAMP:20260422T153847
CREATED:20230317T094540Z
LAST-MODIFIED:20230317T094540Z
UID:1345-1689897600-1690243199@www.zenzoneyoga.co.uk
SUMMARY:Arnewood Manor Weekend Retreat
DESCRIPTION:Join us for an extended weekend retreat at Arnewood Manor\, a quiet haven away from the hustle and bustle of every day life.  Set in a private secluded country house in the New Forest\, this retreat will include a mixture of Qigong and mindful movement practices\, Restorative/Yin yoga\, myofascial release\, acupressure work and energy healing.  Activities will take place both outdoors in nature\, and indoors within a beautiful dedicated studio space.  There will be plenty of time to relax\, eat nourishing food\, and enjoy downtime with like minded people. \n  \nPrice TBC
URL:https://www.zenzoneyoga.co.uk/retreat/arnewood-manor-weekend-retreat/
LOCATION:The Retreat Arnewood Manor\, The Retreat Arnewood Manor\, Sway
ATTACH;FMTTYPE=image/jpeg:https://www.zenzoneyoga.co.uk/wp-content/uploads/2023/03/IMG_6555.jpg
END:VEVENT
END:VCALENDAR