BEGIN:VCALENDAR
VERSION:2.0
PRODID:-//ZenZone Yoga - ECPv6.11.2//NONSGML v1.0//EN
CALSCALE:GREGORIAN
METHOD:PUBLISH
X-ORIGINAL-URL:https://www.zenzoneyoga.co.uk
X-WR-CALDESC:Events for ZenZone Yoga
REFRESH-INTERVAL;VALUE=DURATION:PT1H
X-Robots-Tag:noindex
X-PUBLISHED-TTL:PT1H
BEGIN:VTIMEZONE
TZID:Europe/London
BEGIN:DAYLIGHT
TZOFFSETFROM:+0000
TZOFFSETTO:+0100
TZNAME:BST
DTSTART:20230326T010000
END:DAYLIGHT
BEGIN:STANDARD
TZOFFSETFROM:+0100
TZOFFSETTO:+0000
TZNAME:GMT
DTSTART:20231029T010000
END:STANDARD
END:VTIMEZONE
BEGIN:VEVENT
DTSTART;VALUE=DATE:20231013
DTEND;VALUE=DATE:20231017
DTSTAMP:20260422T103013
CREATED:20230317T095009Z
LAST-MODIFIED:20230317T095345Z
UID:1356-1697155200-1697500799@www.zenzoneyoga.co.uk
SUMMARY:Launceston Farm Retreat
DESCRIPTION:Retreat away for a weekend with us in Launceston’s lavish Georgian Farmhouse.  With an indoor biomass heated swimming pool and sauna\, huge walled gardens\, and play orchard to explore\, this retreat is set in the perfect spot to unwind\, indulge and refresh.  Activities will include Qigong and mindful movement\, Restorative/Yin Yoga and Energy healing\, and will take place in the beautiful private gardens and recently renovated farm workshop\, with plenty of downtime to enjoy the wellness facilities.\n\nPrice £575 per person\nOnly 2 spaces left!
URL:https://www.zenzoneyoga.co.uk/retreat/launceston-farm-retreat/
LOCATION:Launceston Farm\, Launceston Farm\, Launceston\, Blandford
ATTACH;FMTTYPE=image/jpeg:https://www.zenzoneyoga.co.uk/wp-content/uploads/2023/03/Promotional-Images-of-Launceston-Farm-2-scaled.jpg
END:VEVENT
END:VCALENDAR