BEGIN:VCALENDAR
VERSION:2.0
PRODID:-//ZenZone Yoga - ECPv6.11.2//NONSGML v1.0//EN
CALSCALE:GREGORIAN
METHOD:PUBLISH
X-WR-CALNAME:ZenZone Yoga
X-ORIGINAL-URL:https://www.zenzoneyoga.co.uk
X-WR-CALDESC:Events for ZenZone Yoga
REFRESH-INTERVAL;VALUE=DURATION:PT1H
X-Robots-Tag:noindex
X-PUBLISHED-TTL:PT1H
BEGIN:VTIMEZONE
TZID:Europe/London
BEGIN:DAYLIGHT
TZOFFSETFROM:+0000
TZOFFSETTO:+0100
TZNAME:BST
DTSTART:20240331T010000
END:DAYLIGHT
BEGIN:STANDARD
TZOFFSETFROM:+0100
TZOFFSETTO:+0000
TZNAME:GMT
DTSTART:20241027T010000
END:STANDARD
END:VTIMEZONE
BEGIN:VEVENT
DTSTART;TZID=Europe/London:20240621T170000
DTEND;TZID=Europe/London:20240624T170000
DTSTAMP:20260421T195445
CREATED:20240124T153049Z
LAST-MODIFIED:20240124T153327Z
UID:1543-1718989200-1719248400@www.zenzoneyoga.co.uk
SUMMARY:A Mid Summer Solstice Weekend Retreat With Cheryl & Richard Ellis with special guests Corin Ridout and Kate White
DESCRIPTION:‘Arnewood Manor is an incredible immersion into deep peace\, it is such a nurturing space that wraps itself around you and welcomes you home.’\n\nCome and join us as we return to this wonderful space for a ‘Mid Summer Solstice Celebration Residential Weekend Retreat’\, at Arnewood Manor nestled in the heart of the New forest.\nWe will be delivering an abundant itinerary of Sunrise Sea Swims\, Qigong\, Reiki\, Chakra Balancing\, Myofascial Release\, Yin and Gentle Somatic Yoga\, Sound Bath and Cold Water Therapy. \n\n\nArriving 5pm Friday 21st and Departing 10am Monday 24th June.\n\n\nCost £575 Full Board
URL:https://www.zenzoneyoga.co.uk/retreat/a-mid-summer-solstice-weekend-retreat-with-cheryl-richard-ellis/
LOCATION:The Retreat Arnewood Manor\, The Retreat Arnewood Manor\, Sway
ATTACH;FMTTYPE=image/jpeg:https://www.zenzoneyoga.co.uk/wp-content/uploads/2024/01/82bdf0d2-d70c-1532-ad38-bf342eee1f95.jpeg
END:VEVENT
END:VCALENDAR