BEGIN:VCALENDAR
VERSION:2.0
PRODID:-//ZenZone Yoga - ECPv6.11.2//NONSGML v1.0//EN
CALSCALE:GREGORIAN
METHOD:PUBLISH
X-WR-CALNAME:ZenZone Yoga
X-ORIGINAL-URL:https://www.zenzoneyoga.co.uk
X-WR-CALDESC:Events for ZenZone Yoga
REFRESH-INTERVAL;VALUE=DURATION:PT1H
X-Robots-Tag:noindex
X-PUBLISHED-TTL:PT1H
BEGIN:VTIMEZONE
TZID:Europe/London
BEGIN:DAYLIGHT
TZOFFSETFROM:+0000
TZOFFSETTO:+0100
TZNAME:BST
DTSTART:20240331T010000
END:DAYLIGHT
BEGIN:STANDARD
TZOFFSETFROM:+0100
TZOFFSETTO:+0000
TZNAME:GMT
DTSTART:20241027T010000
END:STANDARD
END:VTIMEZONE
BEGIN:VEVENT
DTSTART;TZID=Europe/London:20240922T093000
DTEND;TZID=Europe/London:20240922T130000
DTSTAMP:20260421T142617
CREATED:20240805T123749Z
LAST-MODIFIED:20240805T123749Z
UID:1569-1726997400-1727010000@www.zenzoneyoga.co.uk
SUMMARY:Autumn Equinox Half Day Retreat
DESCRIPTION:With Cheryl Ellis & Richard EllisCome and join us for a morning of movement\, rejuvenation\, and restoration as we bring together a blend of Qigong\, Somatic Yoga & Yin Yoga this Autumn Equinox. A time of transformation\, harvest\, and nourishment\, the Autumn equinox represents a pivotal point of balance in the Northern Hemisphere\, and marks a time of transition with the changing seasons.  This workshop will focus on supporting the Earth Element to help bring us into our centre\, creating a sense of harmony & renewal.   What will the day include?  Qigong.  A wonderful grounding practice of mindful movement designed to clear and balance our energy.  Yin & Somatic Yoga.  A supportive and nourishing practice on the ground\, designed to soothe and regulate the nervous system\, unwind strain and fatigue\, build deep vitality\, and leave you feeling relaxed and renewed.  Tea & coffee break with sweet treats. No previous experience necessary as the day will be designed to accommodate all levels and abilities.The Retreat New ForestLyndhurst RdHinton\, Christchurch\, BH23 7EFCost £60pp or £55 each for 2 places booked together.
URL:https://www.zenzoneyoga.co.uk/retreat/autumn-equinox-half-day-retreat/
LOCATION:The Retreat New Forest\, New Forest\, Hinton
ATTACH;FMTTYPE=image/jpeg:https://www.zenzoneyoga.co.uk/wp-content/uploads/2024/08/Unknown.jpeg
END:VEVENT
END:VCALENDAR