BEGIN:VCALENDAR
VERSION:2.0
PRODID:-//ZenZone Yoga - ECPv6.11.2//NONSGML v1.0//EN
CALSCALE:GREGORIAN
METHOD:PUBLISH
X-WR-CALNAME:ZenZone Yoga
X-ORIGINAL-URL:https://www.zenzoneyoga.co.uk
X-WR-CALDESC:Events for ZenZone Yoga
REFRESH-INTERVAL;VALUE=DURATION:PT1H
X-Robots-Tag:noindex
X-PUBLISHED-TTL:PT1H
BEGIN:VTIMEZONE
TZID:Europe/London
BEGIN:DAYLIGHT
TZOFFSETFROM:+0000
TZOFFSETTO:+0100
TZNAME:BST
DTSTART:20230326T010000
END:DAYLIGHT
BEGIN:STANDARD
TZOFFSETFROM:+0100
TZOFFSETTO:+0000
TZNAME:GMT
DTSTART:20231029T010000
END:STANDARD
BEGIN:DAYLIGHT
TZOFFSETFROM:+0000
TZOFFSETTO:+0100
TZNAME:BST
DTSTART:20240331T010000
END:DAYLIGHT
BEGIN:STANDARD
TZOFFSETFROM:+0100
TZOFFSETTO:+0000
TZNAME:GMT
DTSTART:20241027T010000
END:STANDARD
END:VTIMEZONE
BEGIN:VEVENT
DTSTART;TZID=Europe/London:20240302T093000
DTEND;TZID=Europe/London:20240302T130000
DTSTAMP:20260421T233223
CREATED:20240124T152820Z
LAST-MODIFIED:20240124T152820Z
UID:1540-1709371800-1709384400@www.zenzoneyoga.co.uk
SUMMARY:Early Spring Half Day Yoga Retreat With Cheryl Ellis
DESCRIPTION:Join me for a morning of wellness and revitalisation as we bring together a blend of Yoga\, Somatics\, Breathwork\, and Myofascial Release. \n\nNestled in the heart of The New Forest\, this Half Day Retreat will give you an opportunity to explore new ways of movement\, helping you unlock old patterns of stress in the body.  With a focus on detoxifying the body in preparation for the transition into Spring time\, you will leave feeling rejuvenated and refreshed.  \n\nWhat does the day include? \n\nZen Yoga – A mindful and dynamic practice\, enabling you to build strength\,\nincrease flexibility\, and create a sense of well-being and calm.        \n\nYin and Somatic Yoga – A supportive and nourishing practice designed to\nground\, unwind tension\, and facilitate deep rest.   \n\nTea and coffee break with sweet treats. \n\nNo previous experience necessary as the day will be designed to accommodate all levels and abilities.Cost £60pp or £55 each for 2 places booked together.
URL:https://www.zenzoneyoga.co.uk/retreat/early-spring-half-day-yoga-retreat-with-cheryl-ellis/
LOCATION:The Retreat New Forest\, New Forest\, Hinton
ATTACH;FMTTYPE=image/jpeg:https://www.zenzoneyoga.co.uk/wp-content/uploads/2024/01/IMG_0424.jpeg
END:VEVENT
BEGIN:VEVENT
DTSTART;TZID=Europe/London:20240218T093000
DTEND;TZID=Europe/London:20240218T130000
DTSTAMP:20260421T233223
CREATED:20240124T152614Z
LAST-MODIFIED:20240124T152718Z
UID:1532-1708248600-1708261200@www.zenzoneyoga.co.uk
SUMMARY:Yoga & Qigong Half Day Retreat With Cheryl Ellis & Richard Ellis
DESCRIPTION:Join us for a morning of wellness and restoration as we bring together a blend of Qigong\, Yin Yoga and Somatics. \n\nNestled in the heart of The New Forest\, this Half Day Retreat will give you an opportunity to explore new ways of movement\, helping you unlock old patterns of stress in the body.   \n\nWhat will the day include?\n\nQigong.  A wonderful grounding practice of mindful movement designed to clear \nand balance our energy.  \n\nYin and Somatic Yoga.  A supportive and nourishing practice designed to release \ntension and leave our body feeling relaxed and restored.  \n\nTea and coffee break with sweet treats. \n\nNo previous experience necessary as the day will be designed to accommodate all levels and abilities.Cost £60pp or £55 each for 2 places booked together.
URL:https://www.zenzoneyoga.co.uk/retreat/yoga-qigong-half-day-retreat/
LOCATION:The Retreat New Forest\, New Forest\, Hinton
ATTACH;FMTTYPE=image/jpeg:https://www.zenzoneyoga.co.uk/wp-content/uploads/2024/01/yin-yang-4401011_1280-2.jpeg
END:VEVENT
BEGIN:VEVENT
DTSTART;VALUE=DATE:20231027
DTEND;VALUE=DATE:20231031
DTSTAMP:20260421T233223
CREATED:20230317T095227Z
LAST-MODIFIED:20230317T095227Z
UID:1359-1698364800-1698710399@www.zenzoneyoga.co.uk
SUMMARY:Glastonbury Autumn Retreat
DESCRIPTION:Come and join us for a weekend at the Chalice Well Gardens\, a unique workshop environment\, offering a warm and light space set within wonderful gardens at the bottom of Glastonbury Tor. The Gardens are famous for the spring water that flows through them\, with purifying healing properties.  Encompassing a blend of Qigong\, Reiki healing\, Restorative/Yin Yoga\, meditation\, and much needed downtime\, you will leave feeling nourished\, nurtured and refreshed. \nPrice £525 per person
URL:https://www.zenzoneyoga.co.uk/retreat/glastonbury-autumn-retreat/
LOCATION:The Chalice Well Gardens\, The Chalice Well Gardens\, Glastonbury
ATTACH;FMTTYPE=image/jpeg:https://www.zenzoneyoga.co.uk/wp-content/uploads/2023/03/48e3b7a3-118f-4b17-a195-09f9f2ff6863-2.jpg
END:VEVENT
BEGIN:VEVENT
DTSTART;VALUE=DATE:20231013
DTEND;VALUE=DATE:20231017
DTSTAMP:20260421T233223
CREATED:20230317T095009Z
LAST-MODIFIED:20230317T095345Z
UID:1356-1697155200-1697500799@www.zenzoneyoga.co.uk
SUMMARY:Launceston Farm Retreat
DESCRIPTION:Retreat away for a weekend with us in Launceston’s lavish Georgian Farmhouse.  With an indoor biomass heated swimming pool and sauna\, huge walled gardens\, and play orchard to explore\, this retreat is set in the perfect spot to unwind\, indulge and refresh.  Activities will include Qigong and mindful movement\, Restorative/Yin Yoga and Energy healing\, and will take place in the beautiful private gardens and recently renovated farm workshop\, with plenty of downtime to enjoy the wellness facilities.\n\nPrice £575 per person\nOnly 2 spaces left!
URL:https://www.zenzoneyoga.co.uk/retreat/launceston-farm-retreat/
LOCATION:Launceston Farm\, Launceston Farm\, Launceston\, Blandford
ATTACH;FMTTYPE=image/jpeg:https://www.zenzoneyoga.co.uk/wp-content/uploads/2023/03/Promotional-Images-of-Launceston-Farm-2-scaled.jpg
END:VEVENT
BEGIN:VEVENT
DTSTART;TZID=Europe/London:20230924T093000
DTEND;TZID=Europe/London:20230924T170000
DTSTAMP:20260421T233223
CREATED:20230317T094717Z
LAST-MODIFIED:20230911T114424Z
UID:1348-1695547800-1695574800@www.zenzoneyoga.co.uk
SUMMARY:Autumn Wellness One Day Retreat
DESCRIPTION:Take some quality time for yourself and join us for a truly nourishing day in the beautiful surroundings of the New Forest on Saturday 24th September. \nUsing the holistic practices of Qigong\, Yoga\, and Energetic healing\, we will focus on balancing our stomach and spleen energy to help us feel grounded and prepared for the winter months ahead. \nWhat will the day include? \n– Qigong on the lawn. A wonderful grounding practice of mindful movement designed to balance\, centre\, clear and revitalise our energy.\n– Yin and Restorative Yoga. A supportive and deeply releasing practice to help unwind tension and leave both body and mind feeling relaxed and restored.\n– An introduction to Energetic healing. Working in groups of 3\, a guided practice to bring balance\, energy flow\, and harmony.\n– Delicious vegetarian lunch served in The Crowspotter cafe.\n– Teas/coffees. \nNo previous experience in any of the disciplines is necessary as the day will be designed to accommodate all levels and abilities. \nCost £95 inclusive of lunch and drinks
URL:https://www.zenzoneyoga.co.uk/retreat/autumn-wellness-one-day-retreat/
LOCATION:The Retreat New Forest\, New Forest\, Hinton
ATTACH;FMTTYPE=image/jpeg:https://www.zenzoneyoga.co.uk/wp-content/uploads/2023/03/Unknown.jpeg
END:VEVENT
BEGIN:VEVENT
DTSTART;VALUE=DATE:20230721
DTEND;VALUE=DATE:20230725
DTSTAMP:20260421T233223
CREATED:20230317T094540Z
LAST-MODIFIED:20230317T094540Z
UID:1345-1689897600-1690243199@www.zenzoneyoga.co.uk
SUMMARY:Arnewood Manor Weekend Retreat
DESCRIPTION:Join us for an extended weekend retreat at Arnewood Manor\, a quiet haven away from the hustle and bustle of every day life.  Set in a private secluded country house in the New Forest\, this retreat will include a mixture of Qigong and mindful movement practices\, Restorative/Yin yoga\, myofascial release\, acupressure work and energy healing.  Activities will take place both outdoors in nature\, and indoors within a beautiful dedicated studio space.  There will be plenty of time to relax\, eat nourishing food\, and enjoy downtime with like minded people. \n  \nPrice TBC
URL:https://www.zenzoneyoga.co.uk/retreat/arnewood-manor-weekend-retreat/
LOCATION:The Retreat Arnewood Manor\, The Retreat Arnewood Manor\, Sway
ATTACH;FMTTYPE=image/jpeg:https://www.zenzoneyoga.co.uk/wp-content/uploads/2023/03/IMG_6555.jpg
END:VEVENT
BEGIN:VEVENT
DTSTART;TZID=Europe/London:20230625T093000
DTEND;TZID=Europe/London:20230625T170000
DTSTAMP:20260421T233223
CREATED:20230317T094200Z
LAST-MODIFIED:20230317T094200Z
UID:1342-1687685400-1687712400@www.zenzoneyoga.co.uk
SUMMARY:Summer Sunshine One Day Retreat
DESCRIPTION:Come and join us and celebrate our last one day retreat before the summer holidays.  Using the practices of Qigong\, Yin/Restorative Yoga\, and Energy Healing\, to harmonise the fire element this summer season\, helping to  re-align heart\, body and mind.    No previous experience in any of the disciplines is necessary as the day will be designed to accommodate all levels and abilities.  \n\n£92 per person. Price includes vegan lunch and teas/coffees.
URL:https://www.zenzoneyoga.co.uk/retreat/summer-sunshine-one-day-retreat/
LOCATION:The Retreat Arnewood Manor\, The Retreat Arnewood Manor\, Sway
ATTACH;FMTTYPE=image/jpeg:https://www.zenzoneyoga.co.uk/wp-content/uploads/2023/03/pexels-peter-fazekas-1234064-scaled.jpg
END:VEVENT
BEGIN:VEVENT
DTSTART;TZID=Europe/London:20230514T093000
DTEND;TZID=Europe/London:20230514T170000
DTSTAMP:20260421T233223
CREATED:20230215T213344Z
LAST-MODIFIED:20230314T180249Z
UID:1160-1684056600-1684083600@www.zenzoneyoga.co.uk
SUMMARY:Renew and Revitalise One Day Retreat
DESCRIPTION:Reconnect with yourself and others at this beautiful retreat house in the New Forest near Sway.  Practice Qigong and mindful movement on the secluded lawn\, followed by restorative/yin yoga\, and energy healing in a dedicated studio space full of natural light.  A wonderful opportunity to revitalise in nature\, and rejuvenate body and mind.  No previous experience in any of the disciplines is necessary as the day will be designed to accommodate all levels and abilities. \n\n\n £92 per person. Price includes vegan lunch and teas/coffees.
URL:https://www.zenzoneyoga.co.uk/retreat/renew-and-revitalise-one-day-retreat/
LOCATION:The Retreat Arnewood Manor\, The Retreat Arnewood Manor\, Sway
ATTACH;FMTTYPE=image/jpeg:https://www.zenzoneyoga.co.uk/wp-content/uploads/2023/02/6b120077-f901-4acf-aacb-3cc9ef2e4057-2.jpg
END:VEVENT
BEGIN:VEVENT
DTSTART;TZID=Europe/London:20230423T093000
DTEND;TZID=Europe/London:20230423T170000
DTSTAMP:20260421T233223
CREATED:20230215T211938Z
LAST-MODIFIED:20230314T180327Z
UID:1148-1682242200-1682269200@www.zenzoneyoga.co.uk
SUMMARY:Spring Awakening One Day Retreat
DESCRIPTION:Come and join us for a mixture of movement and stillness to put a ‘spring’ back in your step.   A time of renewal and growth\, we will be exploring the wood element and its cleansing energy through the practices of Qigong\, Yin and Restorative Yoga\, and Energy Healing.  No previous experience in any of the disciplines is necessary as the day will be designed to accommodate all levels and abilities.   \n£88 per person. Price includes vegan lunch and teas/coffees.
URL:https://www.zenzoneyoga.co.uk/retreat/spring-awakening-one-day-retreat/
LOCATION:The Retreat New Forest\, New Forest\, Hinton
ATTACH;FMTTYPE=image/jpeg:https://www.zenzoneyoga.co.uk/wp-content/uploads/2023/02/snow-drops.jpeg
END:VEVENT
END:VCALENDAR