BEGIN:VCALENDAR
VERSION:2.0
PRODID:-//ZenZone Yoga - ECPv6.11.2//NONSGML v1.0//EN
CALSCALE:GREGORIAN
METHOD:PUBLISH
X-ORIGINAL-URL:https://www.zenzoneyoga.co.uk
X-WR-CALDESC:Events for ZenZone Yoga
REFRESH-INTERVAL;VALUE=DURATION:PT1H
X-Robots-Tag:noindex
X-PUBLISHED-TTL:PT1H
BEGIN:VTIMEZONE
TZID:Europe/London
BEGIN:DAYLIGHT
TZOFFSETFROM:+0000
TZOFFSETTO:+0100
TZNAME:BST
DTSTART:20230326T010000
END:DAYLIGHT
BEGIN:STANDARD
TZOFFSETFROM:+0100
TZOFFSETTO:+0000
TZNAME:GMT
DTSTART:20231029T010000
END:STANDARD
END:VTIMEZONE
BEGIN:VEVENT
DTSTART;TZID=Europe/London:20230514T093000
DTEND;TZID=Europe/London:20230514T170000
DTSTAMP:20260422T171440
CREATED:20230215T213344Z
LAST-MODIFIED:20230314T180249Z
UID:1160-1684056600-1684083600@www.zenzoneyoga.co.uk
SUMMARY:Renew and Revitalise One Day Retreat
DESCRIPTION:Reconnect with yourself and others at this beautiful retreat house in the New Forest near Sway.  Practice Qigong and mindful movement on the secluded lawn\, followed by restorative/yin yoga\, and energy healing in a dedicated studio space full of natural light.  A wonderful opportunity to revitalise in nature\, and rejuvenate body and mind.  No previous experience in any of the disciplines is necessary as the day will be designed to accommodate all levels and abilities. \n\n\n £92 per person. Price includes vegan lunch and teas/coffees.
URL:https://www.zenzoneyoga.co.uk/retreat/renew-and-revitalise-one-day-retreat/
LOCATION:The Retreat Arnewood Manor\, The Retreat Arnewood Manor\, Sway
ATTACH;FMTTYPE=image/jpeg:https://www.zenzoneyoga.co.uk/wp-content/uploads/2023/02/6b120077-f901-4acf-aacb-3cc9ef2e4057-2.jpg
END:VEVENT
END:VCALENDAR